BEGIN:VCALENDAR
PRODID:-//dvv-bw.de//dvv.Portalplattform//DE
VERSION:2.0
METHOD:PUBLISH
BEGIN:VEVENT
DTSTART:20261014T080000Z
DTEND:20261014T143000Z
DTSTAMP:20260422T003415Z
UID:523253452788-523253452682-1791928800000
SUMMARY:10. Kongress Klimafit für die Zukunft
LOCATION:Sparkassenakademie Baden-Württemberg\, Pariser Platz 3 A
DESCRIPTION:Klimaanpassung in Kommunen voranbringen – Auf dem Kongress zur Kommunalen Klimaanpassung wird es wieder um konkrete Praxisbeispiele und Unterstützungsangebote gehen.
CLASS:PUBLIC
X-ALT-DESC;FMTTYPE=text/html:Klimaanpassung in Kommunen voranbringen &ndash; Auf dem Kongress zur Kommunalen Klimaanpassung wird es wieder um konkrete Praxisbeispiele und Unterstützungsangebote gehen.
END:VEVENT
END:VCALENDAR
