BEGIN:VCALENDAR
PRODID:-//dvv-bw.de//dvv.Portalplattform//DE
VERSION:2.0
METHOD:PUBLISH
BEGIN:VEVENT
DTSTART:20260505T160000Z
DTEND:20260505T164500Z
DTSTAMP:20260422T052509Z
UID:523254194156-523251266464-1777932000000
SUMMARY:Vortrag: „Balkonkraftwerke verstehen und nutzen“
LOCATION:Mensa der Albert-Schweitzer-Schule\, Albershausen\, Schulstraße 28-30\, 73095 Albershausen
DESCRIPTION:Solarenergie für alle verständlich erklärt.
CLASS:PUBLIC
X-ALT-DESC;FMTTYPE=text/html:Solarenergie für alle verständlich erklärt.
END:VEVENT
END:VCALENDAR
