BEGIN:VCALENDAR
PRODID:-//dvv-bw.de//dvv.Portalplattform//DE
VERSION:2.0
METHOD:PUBLISH
BEGIN:VEVENT
DTSTART:20260717T130000Z
DTEND:20260717T160000Z
DTSTAMP:20260425T152812Z
UID:523253549114-523253549800-1784239200000
SUMMARY:Repaircafé Wäschenbeuren
LOCATION:Stauferschule Wäschenbeuren\, Schulstraße 7-9
DESCRIPTION:Das Repaircafé in Wäschenbeuren findet einmal in jedem Monat freitags von 15 bis 18 Uhr statt (außer August und Dezember) in der Stauferschule Wäschenbeuren. Dort wird fast alles repariert\, was du alleine tragen kannst.
CLASS:PUBLIC
X-ALT-DESC;FMTTYPE=text/html:Das Repaircafé in Wäschenbeuren findet einmal in jedem Monat freitags von 15 bis 18 Uhr statt (außer August und Dezember) in der Stauferschule Wäschenbeuren. Dort wird fast alles repariert\, was du alleine tragen kannst.
END:VEVENT
END:VCALENDAR
