BEGIN:VCALENDAR
PRODID:-//dvv-bw.de//dvv.Portalplattform//DE
VERSION:2.0
METHOD:PUBLISH
BEGIN:VEVENT
DTSTART:20261120T140000Z
DTEND:20261120T170000Z
DTSTAMP:20260425T154330Z
UID:523253549111-523253549800-1795129200000
SUMMARY:Repaircafé Wäschenbeuren
LOCATION:Stauferschule Wäschenbeuren\, Schulstraße 7-9
DESCRIPTION:Das Repaircafé in Wäschenbeuren findet einmal in jedem Monat freitags von 15 bis 18 Uhr statt (außer August und Dezember) in der Stauferschule Wäschenbeuren. Dort wird fast alles repariert\, was du alleine tragen kannst.
CLASS:PUBLIC
X-ALT-DESC;FMTTYPE=text/html:Das Repaircafé in Wäschenbeuren findet einmal in jedem Monat freitags von 15 bis 18 Uhr statt (außer August und Dezember) in der Stauferschule Wäschenbeuren. Dort wird fast alles repariert\, was du alleine tragen kannst.
END:VEVENT
END:VCALENDAR
