BEGIN:VCALENDAR
PRODID:-//dvv-bw.de//dvv.Portalplattform//DE
VERSION:2.0
METHOD:PUBLISH
BEGIN:VEVENT
DTSTART:20261031T130000Z
DTEND:20261031T160000Z
DTSTAMP:20260425T171045Z
UID:523253549101-523252384303-1793401200000
SUMMARY:Repair-Café mitmacherei
LOCATION:Repair-Café mitmacherei\, Kirchbergstraße 2
DESCRIPTION:Kaputt bedeutet nicht zwingend die Entsorgung eines Gegenstands. Im Repair-Café werdet ihr bei der Reperatur unterstützt!
CLASS:PUBLIC
X-ALT-DESC;FMTTYPE=text/html:Kaputt bedeutet nicht zwingend die Entsorgung eines Gegenstands. Im Repair-Café werdet ihr bei der Reperatur unterstützt!
END:VEVENT
END:VCALENDAR
