BEGIN:VCALENDAR
PRODID:-//dvv-bw.de//dvv.Portalplattform//DE
VERSION:2.0
METHOD:PUBLISH
BEGIN:VEVENT
DTSTART:20260509T120000Z
DTEND:20260509T150000Z
DTSTAMP:20260425T120349Z
UID:523253674254-523253673901-1778277600000
SUMMARY:Repair-Café Uhingen
LOCATION:K1 Uhingen\, Kirchstraße 1
DESCRIPTION:Im Repair-Café Uhingen treffen sich die Leute\, um alleine oder gemeinsam mit anderen ihre kaputten Dinge zu reparieren.
CLASS:PUBLIC
X-ALT-DESC;FMTTYPE=text/html:Im Repair-Café Uhingen treffen sich die Leute\, um alleine oder gemeinsam mit anderen ihre kaputten Dinge zu reparieren.
END:VEVENT
END:VCALENDAR
