BEGIN:VCALENDAR
PRODID:-//dvv-bw.de//dvv.Portalplattform//DE
VERSION:2.0
METHOD:PUBLISH
BEGIN:VEVENT
DTSTART:20261121T130000Z
DTEND:20261121T160000Z
DTSTAMP:20260425T154232Z
UID:523253674251-523253673901-1795215600000
SUMMARY:Repair-Café Uhingen
LOCATION:K1 Uhingen\, Kirchstraße 1
DESCRIPTION:Im Repair-Café Uhingen treffen sich die Leute\, um alleine oder gemeinsam mit anderen ihre kaputten Dinge zu reparieren.
CLASS:PUBLIC
X-ALT-DESC;FMTTYPE=text/html:Im Repair-Café Uhingen treffen sich die Leute\, um alleine oder gemeinsam mit anderen ihre kaputten Dinge zu reparieren.
END:VEVENT
END:VCALENDAR
